BEGIN:VCALENDAR
VERSION:2.0
PRODID:-//Western Sydney Emmaus - ECPv5.4.0//NONSGML v1.0//EN
CALSCALE:GREGORIAN
METHOD:PUBLISH
X-WR-CALNAME:Western Sydney Emmaus
X-ORIGINAL-URL:https://westernsydneyemmaus.org.au
X-WR-CALDESC:Events for Western Sydney Emmaus
BEGIN:VTIMEZONE
TZID:Australia/Sydney
BEGIN:STANDARD
TZOFFSETFROM:+1100
TZOFFSETTO:+1000
TZNAME:AEST
DTSTART:20210403T160000
END:STANDARD
BEGIN:DAYLIGHT
TZOFFSETFROM:+1000
TZOFFSETTO:+1100
TZNAME:AEDT
DTSTART:20211002T160000
END:DAYLIGHT
END:VTIMEZONE
BEGIN:VEVENT
DTSTART;TZID=Australia/Sydney:20211014T193000
DTEND;TZID=Australia/Sydney:20211017T163000
DTSTAMP:20210228T121900
CREATED:20180529T052138Z
LAST-MODIFIED:20200922T210505Z
UID:23233-1634239800-1634488200@westernsydneyemmaus.org.au
SUMMARY:October Emmaus Womens Walk 98
DESCRIPTION:The Walk to Emmaus is a spiritual renewal program intended to strengthen the local church through the development of Christian disciples and leaders. The program’s approach seriously considers the model of Christ’s servanthood and encourages Christ’s disciples to act in ways appropriate to being “a servant of all.” \nThe Walk to Emmaus experience begins with a 72-hour short course in Christianity\, comprised of fifteen talks by lay and clergy on the themes of God’s grace\, disciplines of Christian discipleship\, and what it means to be the church. The course is wrapped in prayer and meditation\, special times of worship and daily celebration of Holy Communion. The “Emmaus community\,” made up of those who have attended an Emmaus weekend\, support the 72-hour experience with a prayer vigil\, by preparing and serving meals\, and other acts of love and self-giving. The Emmaus Walk typically begins Thursday evening and concludes Sunday evening. Men and women attend separate weekends. \nRegister to Attend Walk 98 \nTeam Registration Details \nAfter registering please add your payment reference details \n\nwebdesigner\n\n\n 
URL:https://westernsydneyemmaus.org.au/events/october-emmaus-womens-walk-98/
LOCATION:Castlereagh Christian Conference Centre\, 297-305 Castlereagh Rd\, Castlereagh\, NSW\, 2749\, Australia
END:VEVENT
END:VCALENDAR